Workbook

Sheet 1. Project Information
A1: Project Information
A2: PIF ID#: (If known)
A3: Project Name:
A4: Project Overview: Please provide a short description of the proposed project, including the key outcomes sought.
A5: Directorate:
A6: Business Unit:
A7: Responsible Officer:
A8: Project Owner:
A9: What, if any, engagement has previously been undertaken in relation to this project? (Put N/A or leave blank if none)
A10: Please complete the Engagemant Risk Matrix on sheet 2 and send completed form to communityengagement@porthedland.wa.gov.au.

Sheet 2. Engagement Risk Matrix
B1: Engagement Risk Matrix
D2: Project Name: | E2: ='1. Project Information'!B3 -> 0
D3: Assessed By:
D4: Assessment Date: | H4: © Aha! Consulting - used with Permission
D5: No Impact | E5: Low Impact | F5: Medium Impact | G5: High Impact | H5: Very High | I5: RATING SELECT AND USE DROP DOWN LIST
B6: Social | C6: 1 | D6: No substantive changes to service usage/offering, physical amenity | E6: Change to service usage/offering, physical amenity etc, likely to be perceived as a moderate impact | F6: Change to service usage/offering, physical amenity etc, likely to be perceived as a moderate impact | G6: Change to service usage/offering, physical amenity etc, likely to be perceived as a significant | H6: Change to service usage/offering, physical amenity etc, likely to be perceived as a significant
C7: 2 | D7: Change is within the individuals control | E7: Limited forced change for individuals | F7: Moderate forced change for individuals | G7: Significant forced change for individuals | H7: Very significant forced change for individuals
C8: 3 | D8: No dissenting views on preferred outcome | E8: No dissenting views on preferred outcome (method to achieve outcome can differ) | F8: Multiple views on the preferred outcome, but more points of agreement than disagreement | G8: Multiple and conflicting views on the preferred outcome | H8: Multiple and strongly conflicting views on the preferred outcome
C9: 4 | D9: Benefits shared equitably across user group / community | E9: Impacts/benefits shared across the community | F9: Impacts/benefits shared across the community | G9: Impacts/benefits effect a narrow sub-set of the community | H9: Impacts/benefits effect a narrow sub-set of the community
C10: 5 | D10: No potential for cultural or historical offense | E10: No potential for cultural or historical offense | F10: No potential for cultural or historical offense | G10: Potential for cultural or historical offense | H10: Significant potential cultural or historical offense
B11: Technical | C11: 6 | D11: Simple decision. There is one or few technical options and these are simple and straightforward solutions with no technical or regulatory challenges | E11: Uncomplicated decision. There are a few technical options but they are simple and straightforward with a few technical or regulatory challenges | F11: Complicated decision. There are several technical options with a few regulatory challenges. Yet, while complicated, selecting the best option is relatively straightforward. | G11: Complex decision. There are several options each with different regulatory and technical impacts. The is no obvious solution, with significant trade off involved. | H11: Highly complex decision. There are several options with competing regulatory and technical impacts. The is no obvious solution, involving significant trade-offs and unclear feasibility
C12: 7 | D12: No public private partnership required | E12: No public private partnership required | F12: May require a public private partnership | G12: Requires entry into a public private partnership | H12: Requires entry into a public private partnership
B13: Economic | C13: 8 | D13: No economic benefit, development opportunity or impact | E13: Minimal economic benefit, development opportunity and/or impact | F13: Moderate economic benefit, development opportunity and/or impact | G13: High economic benefit, development opportunity and/or impact | H13: Significant economic benefit, development opportunity and/or impact
C14: 9 | D14: Will require negligible expenditure | E14: Will require minimal expenditure | F14: Will require moderate expenditure | G14: Will require high expenditure | H14: Will require major expenditure
B15: Environmental | C15: 10 | D15: No environmental benefit or impact | E15: Minimal environmental benefit and/or impact | F15: Moderate environmental benefit and/or impact | G15: High environmental benefit and/or impact | H15: Significant environmental benefit and/or impact
B16: Political | C16: 11 | D16: No media and political interest | E16: No media and political interest | F16: Minimal media | G16: Past and current media | H16: Significant media
C17: 12 | D17: No competing interests | E17: Minimal competing interests | F17: Some powerful and competing interests | G17: Multiple powerful and competing interests | H17: Significant powerful and competing interests
C18: 13 | D18: No commitments previously made | E18: Commitments made mostly delivered | F18: Many key commitments not delivered | G18: Limited delivery of previous commitments | H18: No key commitments delivered
C19: 14 | D19: A few individuals feel unheard | E19: Some sectors of community feel unheard | F19: Some history of being unresponsive to community | G19: Long history of being unresponsive to community | H19: A few individuals feel unheard
G21: Overall Score | H21: ='4. Form Coding -Do Not Edit'!I25 -> #N/A | I21: ='4. Form Coding -Do Not Edit'!I23 -> #N/A

Sheet 3. Assessment Outcomes
B1: Assessment Outcomes
B2: Level of Impact | D2: =('2. Engagement Risk Matrix'!I21) -> #N/A
B3: Suggested level of planning | D3: =VLOOKUP($D$2,'4. Form Coding -Do Not Edit'!$B$38:$G$43,6,1) -> #N/A
B4: Suggested minimum level of influence | D4: =VLOOKUP($D$2,'4. Form Coding -Do Not Edit'!$B$38:$H$43,7,1) -> #N/A
B7: Responsible | C7: Engagement Design | D7: =VLOOKUP($D$2,'4. Form Coding -Do Not Edit'!$B$38:$F$43,2,1) -> #N/A
C8: Delivery and Reporting | D8: =VLOOKUP($D$2,'4. Form Coding -Do Not Edit'!$B$47:$F$52,2,1) -> #N/A
B9: Accountable | C9: Engagement Design | D9: =VLOOKUP($D$2,'4. Form Coding -Do Not Edit'!$B$38:$F$43,3,1) -> #N/A
C10: Delivery and Reporting | D10: =VLOOKUP($D$2,'4. Form Coding -Do Not Edit'!$B$47:$F$52,3,1) -> #N/A
B11: Consulted | C11: Engagement Design | D11: =VLOOKUP($D$2,'4. Form Coding -Do Not Edit'!$B$38:$F$43,4,1) -> #N/A
C12: Delivery and Reporting | D12: =VLOOKUP($D$2,'4. Form Coding -Do Not Edit'!$B$47:$F$52,4,1) -> #N/A
B13: Informed | C13: Engagement Design | D13: =VLOOKUP($D$2,'4. Form Coding -Do Not Edit'!$B$38:$F$43,5,1) -> #N/A
C14: Delivery and Reporting | D14: =VLOOKUP($D$2,'4. Form Coding -Do Not Edit'!$B$47:$F$52,5,1) -> #N/A
B15: *Elements of this work might be subcontracted to an external provider or supported by the CET to develop the approach
B18: Roles
B19: Business Unit Officer (BUO)
B20: Community Engagement Team (CET)
B21: Elected Members (EM)
B22: Executive Leadership Team (ELT)
B23: Project Control Group (PCG)
B24: Project Lead (PL)
B25: Project Owner (PO)
B26: Project Working Group (PWG)
B27: Public Affairs Team (PAT)
B28: Senior Leadership Team (SLT)

Sheet 4. Form Coding -Do Not Edit
B2: Scale
B3: Select one | D3: Distribution on risk calculation
B4: 1 - No Impact | C4: 1 | D4: =COUNTIF($K$13:$K$53,B4) -> 8
B5: 1.5 No-Low | C5: 1.5
B6: 2 - Low Impact | C6: 2 | D6: =COUNTIF($K$13:$K$53,B6) -> 8 | J6: =COUNTA(J13:J53) -> 41 | K6: =SUM(J6)/5 -> 8.2
B7: 2.5 Low-Med | C7: 2.5
B8: 3 - Medium Impact | C8: 3 | D8: =COUNTIF($K$13:$K$53,B8) -> 8
B9: 3.5- Med-high | C9: 3.5
B10: 4 - High Impact | C10: 4 | D10: =COUNTIF($K$13:$K$53,B10) -> 9
B11: 4.5 - High - V.High | C11: 4.5
B12: 5 - Very High | C12: 5 | D12: =COUNTIF($K$13:$K$53,B12) -> 8
B13: NA | C13: 0 | J13: 1 | K13: 1 - No Impact
J14: 1.1 | K14: 1 - No Impact
C15: Response | D15: Score | E15: Count | F15: Average | I15: Score | J15: 1.2 | K15: 1 - No Impact
B16: Social | C16: ='2. Engagement Risk Matrix'!I6 -> 0 | D16: =LOOKUP(C16,$B$4:$B$13,$C$4:$C$13) -> #N/A | E16: =COUNTA(D16:D20) - COUNTIF(D16:D20,$C$13) -> 5 | F16: =IF(SUM(D16:D20)>0, SUM(D16:D20)/E16, -1) -> #N/A | H16: =UPPER($B$16) -> SOCIAL | I16: =MAX(0.1, $F$16) -> #N/A | J16: 1.3 | K16: 1 - No Impact
C17: ='2. Engagement Risk Matrix'!I7 -> 0 | D17: =LOOKUP(C17,$B$4:$B$13,$C$4:$C$13) -> #N/A | H17: =UPPER($B$21) -> TECHNICAL | I17: =MAX(0.1, $F$21) -> #N/A | J17: 1.4 | K17: 1 - No Impact
C18: ='2. Engagement Risk Matrix'!I8 -> 0 | D18: =LOOKUP(C18,$B$4:$B$13,$C$4:$C$13) -> #N/A | H18: =UPPER($B$23) -> ECONOMIC | I18: =MAX(0.1, $F$23) -> #N/A | J18: 1.5 | K18: 1 - No Impact
C19: ='2. Engagement Risk Matrix'!I9 -> 0 | D19: =LOOKUP(C19,$B$4:$B$13,$C$4:$C$13) -> #N/A | H19: =UPPER($B$25) -> ENVIRONMENTAL | I19: =MAX(0.1, $F$25) -> #N/A | J19: 1.6 | K19: 1 - No Impact
C20: ='2. Engagement Risk Matrix'!I10 -> 0 | D20: =LOOKUP(C20,$B$4:$B$13,$C$4:$C$13) -> #N/A | H20: =UPPER($B$26) -> POLITICAL | I20: =MAX(0.1, $F$26) -> #N/A | J20: 1.7 | K20: 1 - No Impact
B21: Technical | C21: ='2. Engagement Risk Matrix'!I11 -> 0 | D21: =LOOKUP(C21,$B$4:$B$13,$C$4:$C$13) -> #N/A | E21: =COUNTA(D21:D22) - COUNTIF(D21:D22,$C$13) -> 2 | F21: =IF(SUM(D21:D22)>0, SUM(D21:D22)/E21,-1) -> #N/A | J21: 1.8 | K21: 2 - Low Impact
C22: ='2. Engagement Risk Matrix'!I12 -> 0 | D22: =LOOKUP(C22,$B$4:$B$13,$C$4:$C$13) -> #N/A | H22: Overal all | I22: =AVERAGE(D16:D31) -> #N/A | J22: 1.9 | K22: 2 - Low Impact
B23: Economic | C23: ='2. Engagement Risk Matrix'!I13 -> 0 | D23: =LOOKUP(C23,$B$4:$B$13,$C$4:$C$13) -> #N/A | E23: =COUNTA(D23:D24) - COUNTIF(D23:D24,$C$13) -> 2 | F23: =IF(SUM(D23:D24)>0, SUM(D23:D24)/E23,-1) -> #N/A | I23: =VLOOKUP(I25,J13:K53,2) -> #N/A | J23: 2 | K23: 2 - Low Impact
C24: ='2. Engagement Risk Matrix'!I14 -> 0 | D24: =LOOKUP(C24,$B$4:$B$13,$C$4:$C$13) -> #N/A | J24: 2.1 | K24: 2 - Low Impact
B25: Environmental | C25: ='2. Engagement Risk Matrix'!I15 -> 0 | D25: =LOOKUP(C25,$B$4:$B$13,$C$4:$C$13) -> #N/A | E25: =COUNTA(D25:D25) - COUNTIF(D25,$C$13) -> 1 | F25: =IF(SUM(D25)>0, SUM(D25)/E25,-1) -> #N/A | H25: Overal all (by average) | I25: =AVERAGE(I16:I20) -> #N/A | J25: 2.2 | K25: 2 - Low Impact
B26: Political | C26: ='2. Engagement Risk Matrix'!I16 -> 0 | D26: =LOOKUP(C26,$B$4:$B$13,$C$4:$C$13) -> #N/A | E26: =COUNTA(D26:D31) - COUNTIF(D26:D31,$C$13) -> 4 | F26: =IF(SUM(D26:D31)>0, SUM(D26:D31)/E26,-1) -> #N/A | J26: 2.3 | K26: 2 - Low Impact
C27: ='2. Engagement Risk Matrix'!I17 -> 0 | D27: =LOOKUP(C27,$B$4:$B$13,$C$4:$C$13) -> #N/A | J27: 2.4 | K27: 2 - Low Impact
C28: ='2. Engagement Risk Matrix'!I18 -> 0 | D28: =LOOKUP(C28,$B$4:$B$13,$C$4:$C$13) -> #N/A | J28: 2.5 | K28: 2 - Low Impact
C29: ='2. Engagement Risk Matrix'!I19 -> 0 | D29: =LOOKUP(C29,$B$4:$B$13,$C$4:$C$13) -> #N/A | J29: 2.6 | K29: 3 - Medium Impact
J30: 2.7 | K30: 3 - Medium Impact
J31: 2.8 | K31: 3 - Medium Impact
J32: 2.9 | K32: 3 - Medium Impact
J33: 3 | K33: 3 - Medium Impact
J34: 3.1 | K34: 3 - Medium Impact
J35: 3.2 | K35: 3 - Medium Impact
B36: RACI MATRIX | J36: 3.3 | K36: 3 - Medium Impact
C37: Engagement Design | J37: 3.4 | K37: 4 - High Impact
C38: Responsible | D38: Accountable | E38: Consulted | F38: Informed | G38: Planning | H38: Influence | J38: 3.5 | K38: 4 - High Impact
B39: 1 - No Impact | C39: BUO | D39: PL* | E39: N/a | F39: CET/CT | G39: Simple | H39: Inform | J39: 3.6 | K39: 4 - High Impact
B40: 2 - Low Impact | C40: BUO | D40: PL* | E40: CET/PAT* | F40: SLT | G40: Simple | H40: Consult | J40: 3.7 | K40: 4 - High Impact
B41: 3 - Medium Impact | C41: CET* | D41: PL* | E41: CET/PAT* | F41: SLT/ELT | G41: Detailed | H41: Involve | J41: 3.8 | K41: 4 - High Impact
...
